BEGIN:VCALENDAR
VERSION:2.0
PRODID:-//Befriend - ECPv5.16.2//NONSGML v1.0//EN
CALSCALE:GREGORIAN
METHOD:PUBLISH
X-ORIGINAL-URL:https://befriendmovement.org
X-WR-CALDESC:Events for Befriend
REFRESH-INTERVAL;VALUE=DURATION:PT1H
X-Robots-Tag:noindex
X-PUBLISHED-TTL:PT1H
BEGIN:VTIMEZONE
TZID:UTC
BEGIN:STANDARD
TZOFFSETFROM:+0000
TZOFFSETTO:+0000
TZNAME:UTC
DTSTART:20240101T000000
END:STANDARD
END:VTIMEZONE
BEGIN:VEVENT
DTSTART;VALUE=DATE:20240820
DTEND;VALUE=DATE:20240821
DTSTAMP:20260424T201905
CREATED:20240819T120616Z
LAST-MODIFIED:20240819T120616Z
UID:1098-1724112000-1724198399@befriendmovement.org
SUMMARY:Befriend Poetry In the Park
DESCRIPTION:Join us for Befriend Poetry In the Park with Alex Trivas and Loleta Smith\, in Jefferson Park on Tuesday\, August 20\, 6:30-7:30pm \n1921 Princess Anne Ave\, Richmond\, VA \n**If you would like\, please bring your favorite poem or one you have written to share\, or just come and listen. \nEmail mollie@befriendmovement.org to RSVP\, but please come even if last minute. All are welcome!
URL:https://befriendmovement.org/event/befriend-poetry-in-the-park-2/
END:VEVENT
BEGIN:VEVENT
DTSTART;VALUE=DATE:20240825
DTEND;VALUE=DATE:20240826
DTSTAMP:20260424T201905
CREATED:20240819T121103Z
LAST-MODIFIED:20240819T121207Z
UID:1100-1724544000-1724630399@befriendmovement.org
SUMMARY:Befriend Walk of Kindness in Boston
DESCRIPTION:Join us for a Befriend Walk of Kindness in Boston on Sunday\, August 25\, 3-5 PM \nWe will be walking in and around the Public Garden handing out flowers with positive messages. Meet at the corner of Arlington and Beacon Streets in Boston. \nOur flowers\, beautiful zinnias and dahlias\, will be provided by a local grower on Cape Cod\, Tangled Wood Flowers.  Please spread the word to any Boston friends! \nEmail mollie@befriendmovement.org to RSVP\, but please come even if last minute. All are welcome!
URL:https://befriendmovement.org/event/befriend-walk-of-kindness-in-boston/
END:VEVENT
END:VCALENDAR