BEGIN:VCALENDAR
VERSION:2.0
PRODID:-//Befriend - ECPv5.16.2//NONSGML v1.0//EN
CALSCALE:GREGORIAN
METHOD:PUBLISH
X-ORIGINAL-URL:https://befriendmovement.org
X-WR-CALDESC:Events for Befriend
REFRESH-INTERVAL;VALUE=DURATION:PT1H
X-Robots-Tag:noindex
X-PUBLISHED-TTL:PT1H
BEGIN:VTIMEZONE
TZID:UTC
BEGIN:STANDARD
TZOFFSETFROM:+0000
TZOFFSETTO:+0000
TZNAME:UTC
DTSTART:20240101T000000
END:STANDARD
END:VTIMEZONE
BEGIN:VEVENT
DTSTART;VALUE=DATE:20240713
DTEND;VALUE=DATE:20240714
DTSTAMP:20260425T132313
CREATED:20240709T184419Z
LAST-MODIFIED:20240709T185115Z
UID:1068-1720828800-1720915199@befriendmovement.org
SUMMARY:Befriend Nature Walk
DESCRIPTION:Join us for a Befriend Nature Walk with Tee Hollowell and Kobe Lynch at Rockett’s Landing\, Saturday July 13\, 10-11am \nMeet at 3100 Wharf Street\, Richmond\, VA 23223 \nEmail mollie@befriendmovement.org to RSVP\, but please come even if last minute. All are welcome!
URL:https://befriendmovement.org/event/befriend-nature-walk-5/
END:VEVENT
BEGIN:VEVENT
DTSTART;VALUE=DATE:20240724
DTEND;VALUE=DATE:20240725
DTSTAMP:20260425T132313
CREATED:20240709T185042Z
LAST-MODIFIED:20240709T185042Z
UID:1070-1721779200-1721865599@befriendmovement.org
SUMMARY:Befriend Poetry In the Park
DESCRIPTION:Join us for Befriend Poetry In the Park with Alex Trivas and Loleta Smith\, in Jefferson Park on Wednesday\, July 24\, 6:30-7:30pm \n1921 Princess Anne Ave\, Richmond\, VA \n**If you would like\, please bring your favorite poem or one you have written to share\, or just come and listen. \nEmail mollie@befriendmovement.org to RSVP\, but please come even if last minute. All are welcome!
URL:https://befriendmovement.org/event/befriend-poetry-in-the-park/
END:VEVENT
END:VCALENDAR