BEGIN:VCALENDAR
VERSION:2.0
PRODID:-//Befriend - ECPv5.16.2//NONSGML v1.0//EN
CALSCALE:GREGORIAN
METHOD:PUBLISH
X-WR-CALNAME:Befriend
X-ORIGINAL-URL:https://befriendmovement.org
X-WR-CALDESC:Events for Befriend
REFRESH-INTERVAL;VALUE=DURATION:PT1H
X-Robots-Tag:noindex
X-PUBLISHED-TTL:PT1H
BEGIN:VTIMEZONE
TZID:UTC
BEGIN:STANDARD
TZOFFSETFROM:+0000
TZOFFSETTO:+0000
TZNAME:UTC
DTSTART:20230101T000000
END:STANDARD
END:VTIMEZONE
BEGIN:VEVENT
DTSTART;VALUE=DATE:20231202
DTEND;VALUE=DATE:20231203
DTSTAMP:20260420T135101
CREATED:20231130T183317Z
LAST-MODIFIED:20231130T183317Z
UID:928-1701475200-1701561599@befriendmovement.org
SUMMARY:Befriend Pop-up Walk
DESCRIPTION:Saturday\, Dec 2  –  Befriend Walk at University of Richmond\, 11 am-12 pm \n\nMeet behind new Starbucks at River Road Shopping Center\, 6201 River Road\, Richmond\, VA  23220
URL:https://befriendmovement.org/event/befriend-pop-up-walk/
END:VEVENT
BEGIN:VEVENT
DTSTART;TZID=UTC:20231206T183000
DTEND;TZID=UTC:20231206T203000
DTSTAMP:20260420T135101
CREATED:20231102T132506Z
LAST-MODIFIED:20231102T132506Z
UID:920-1701887400-1701894600@befriendmovement.org
SUMMARY:Befriend with Culture Encounters
DESCRIPTION:Wednesday\, Dec 6  –  Befriend Event with Culture Encounters and Alex Trivas at The Mantu\, 6:30-8:30PM.\nTicket information coming soon\n\n\n10 S. Thompson St\, Richmond\, VA 23221
URL:https://befriendmovement.org/event/befriend-with-culture-encounters/
END:VEVENT
BEGIN:VEVENT
DTSTART;VALUE=DATE:20231215
DTEND;VALUE=DATE:20231216
DTSTAMP:20260420T135101
CREATED:20231130T183705Z
LAST-MODIFIED:20231130T183705Z
UID:930-1702598400-1702684799@befriendmovement.org
SUMMARY:Befriend Holiday Gathering
DESCRIPTION:Friday\, Dec 15  –  Befriend Holiday Gathering at RVA Light\, 12:30 pm-1:30 pm \nGather with friends old and new to share holiday treats and inspirational quotes \nRVA Light: 504 W Broad St\, Richmond\, VA 23220
URL:https://befriendmovement.org/event/befriend-holiday-gathering/
END:VEVENT
BEGIN:VEVENT
DTSTART;VALUE=DATE:20231228
DTEND;VALUE=DATE:20231231
DTSTAMP:20260420T135101
CREATED:20230921T193740Z
LAST-MODIFIED:20240322T183804Z
UID:858-1703721600-1703980799@befriendmovement.org
SUMMARY:804 Coaches for Change Community Classic
DESCRIPTION:December 28-30 \nCoordinated by 804 Coaches for Change and Befriend\, the Community Classic brings people together through the platform of basketball\, to celebrate our common humanity and unite our community. \nHenrico Sports and Event Complex: 11000 Telegraph Rd\, Glen Allen \,VA 23060 \nDec 28 girls game times: 2pm\, 3:45pm\, 5:30pm\, 7:30pm \nDec 29 boys game times: 2pm\, 3:45pm\, 5:30pm\, 7:30pm \nDec 30 consolation game times: 9:30am\, 11am\, 12:30pm\, 2pm \nDec 30 championship game times: 3:30pm\, 5pm\, 6:30pm\, 8pm \n 
URL:https://befriendmovement.org/event/804-coaches-for-change-community-classic/
ATTACH;FMTTYPE=image/jpeg:https://befriendmovement.org/wp-content/uploads/2023/09/FINAL-Basketball-Befriend_v8-scaled.jpg
END:VEVENT
END:VCALENDAR