BEGIN:VCALENDAR
VERSION:2.0
PRODID:-//Befriend - ECPv5.16.2//NONSGML v1.0//EN
CALSCALE:GREGORIAN
METHOD:PUBLISH
X-WR-CALNAME:Befriend
X-ORIGINAL-URL:https://befriendmovement.org
X-WR-CALDESC:Events for Befriend
REFRESH-INTERVAL;VALUE=DURATION:PT1H
X-Robots-Tag:noindex
X-PUBLISHED-TTL:PT1H
BEGIN:VTIMEZONE
TZID:UTC
BEGIN:STANDARD
TZOFFSETFROM:+0000
TZOFFSETTO:+0000
TZNAME:UTC
DTSTART:20220101T000000
END:STANDARD
END:VTIMEZONE
BEGIN:VEVENT
DTSTART;TZID=UTC:20220717T130000
DTEND;TZID=UTC:20220717T140000
DTSTAMP:20260419T000931
CREATED:20220707T212331Z
LAST-MODIFIED:20220707T214309Z
UID:534-1658062800-1658066400@befriendmovement.org
SUMMARY:Befriend Gathering at Jefferson Park
DESCRIPTION:We will having our next Befriend Gathering at Jefferson Park on Sunday\, July 17 at 1pm.  The address is 1921 Princess Anne Ave. Richmond\, VA  23223. \nWe will be sharing inspirational quotes (bring one if you’d like but not necessary to come) and learning more from each other. We hope you can join us! \n 
URL:https://befriendmovement.org/event/befriend-gathering-at-jefferson-park/
ATTACH;FMTTYPE=image/jpeg:https://befriendmovement.org/wp-content/uploads/2022/07/IMG_6620-scaled.jpeg
END:VEVENT
BEGIN:VEVENT
DTSTART;VALUE=DATE:20220708
DTEND;VALUE=DATE:20220711
DTSTAMP:20260419T000931
CREATED:20220706T192704Z
LAST-MODIFIED:20220708T021007Z
UID:443-1657238400-1657497599@befriendmovement.org
SUMMARY:Cultivating a Kindness Revolution Workshop
DESCRIPTION:Cultivating a Kindness Revolution. Our own Mollie Reinhart will be speaking @omegainstitute — at the workshop\, Cultivating a Kindness Revolution: Ted Lasso Style along with some amazing speakers…
URL:https://befriendmovement.org/event/cultivating-a-kindness-revolution-workshop/
ATTACH;FMTTYPE=image/jpeg:https://befriendmovement.org/wp-content/uploads/2022/07/Ted.jpg
END:VEVENT
END:VCALENDAR