BEGIN:VCALENDAR
VERSION:2.0
PRODID:-//Befriend - ECPv5.16.2//NONSGML v1.0//EN
CALSCALE:GREGORIAN
METHOD:PUBLISH
X-WR-CALNAME:Befriend
X-ORIGINAL-URL:https://befriendmovement.org
X-WR-CALDESC:Events for Befriend
REFRESH-INTERVAL;VALUE=DURATION:PT1H
X-Robots-Tag:noindex
X-PUBLISHED-TTL:PT1H
BEGIN:VTIMEZONE
TZID:UTC
BEGIN:STANDARD
TZOFFSETFROM:+0000
TZOFFSETTO:+0000
TZNAME:UTC
DTSTART:20240101T000000
END:STANDARD
END:VTIMEZONE
BEGIN:VEVENT
DTSTART;VALUE=DATE:20240911
DTEND;VALUE=DATE:20240912
DTSTAMP:20260420T004358
CREATED:20240819T122001Z
LAST-MODIFIED:20240819T122001Z
UID:1106-1726012800-1726099199@befriendmovement.org
SUMMARY:Befriend Gather at VMFA Richmond
DESCRIPTION:Join us for a Befriend Gather at Virginia Museum of Fine Arts\, Richmond on September 11\, 6 PM \nWe will have a tour of the sculpture garden with Michael Taylor\, Chief Curator of VMFA and enjoy conversation with Alex Trivas and Mollie Reinhart. \nMeet outside in the sculpture garden near the Chloe statue. \nEmail mollie@befriendmovement.org to RSVP\, but please come even if last minute. All are welcome!
URL:https://befriendmovement.org/event/befriend-gather-at-vmfa-richmond/
END:VEVENT
END:VCALENDAR