BEGIN:VCALENDAR
VERSION:2.0
PRODID:-//Befriend - ECPv5.16.2//NONSGML v1.0//EN
CALSCALE:GREGORIAN
METHOD:PUBLISH
X-WR-CALNAME:Befriend
X-ORIGINAL-URL:https://befriendmovement.org
X-WR-CALDESC:Events for Befriend
REFRESH-INTERVAL;VALUE=DURATION:PT1H
X-Robots-Tag:noindex
X-PUBLISHED-TTL:PT1H
BEGIN:VTIMEZONE
TZID:UTC
BEGIN:STANDARD
TZOFFSETFROM:+0000
TZOFFSETTO:+0000
TZNAME:UTC
DTSTART:20240101T000000
END:STANDARD
END:VTIMEZONE
BEGIN:VEVENT
DTSTART;VALUE=DATE:20240519
DTEND;VALUE=DATE:20240520
DTSTAMP:20260425T184029
CREATED:20240514T120128Z
LAST-MODIFIED:20240514T120128Z
UID:1048-1716076800-1716163199@befriendmovement.org
SUMMARY:Befriend Nature Walk
DESCRIPTION:Join us for a Befriend Nature Walk with Sloan Hiscock and Meg Zehmer at Deep Run Park\, Sunday May 19\, 2-3pm   \n9900 Ridgefield Parkway\, Henrico\, VA  23233.  Meet in parking lot by Shelter 1\, 2\, and 3 \nEmail mollie@befriendmovement.org to RSVP
URL:https://befriendmovement.org/event/befriend-nature-walk-2/
END:VEVENT
END:VCALENDAR