BEGIN:VCALENDAR
VERSION:2.0
PRODID:-//Befriend - ECPv5.16.2//NONSGML v1.0//EN
CALSCALE:GREGORIAN
METHOD:PUBLISH
X-ORIGINAL-URL:https://befriendmovement.org
X-WR-CALDESC:Events for Befriend
REFRESH-INTERVAL;VALUE=DURATION:PT1H
X-Robots-Tag:noindex
X-PUBLISHED-TTL:PT1H
BEGIN:VTIMEZONE
TZID:UTC
BEGIN:STANDARD
TZOFFSETFROM:+0000
TZOFFSETTO:+0000
TZNAME:UTC
DTSTART:20240101T000000
END:STANDARD
END:VTIMEZONE
BEGIN:VEVENT
DTSTART;VALUE=DATE:20240515
DTEND;VALUE=DATE:20240516
DTSTAMP:20260424T202806
CREATED:20240514T115852Z
LAST-MODIFIED:20240514T115852Z
UID:1044-1715731200-1715817599@befriendmovement.org
SUMMARY:NYC Befriend Walk & Talk
DESCRIPTION:Join us for a Befriend Walk and Talk with Peoplehood in NYC\, Wednesday May 15\, 6-7 pm \nAct of Kindness Walk with flowers and inspiring messages \n109 West 17th Street\, New York\, New York 10011 \nEmail mollie@befriendmovement.org to RSVP
URL:https://befriendmovement.org/event/nyc-befriend-walk-talk/
END:VEVENT
END:VCALENDAR