BEGIN:VCALENDAR
VERSION:2.0
PRODID:-//Befriend - ECPv5.16.2//NONSGML v1.0//EN
CALSCALE:GREGORIAN
METHOD:PUBLISH
X-ORIGINAL-URL:https://befriendmovement.org
X-WR-CALDESC:Events for Befriend
REFRESH-INTERVAL;VALUE=DURATION:PT1H
X-Robots-Tag:noindex
X-PUBLISHED-TTL:PT1H
BEGIN:VTIMEZONE
TZID:UTC
BEGIN:STANDARD
TZOFFSETFROM:+0000
TZOFFSETTO:+0000
TZNAME:UTC
DTSTART:20240101T000000
END:STANDARD
END:VTIMEZONE
BEGIN:VEVENT
DTSTART;VALUE=DATE:20240505
DTEND;VALUE=DATE:20240506
DTSTAMP:20260425T174610
CREATED:20240423T132627Z
LAST-MODIFIED:20240423T132627Z
UID:1031-1714867200-1714953599@befriendmovement.org
SUMMARY:Befriend Nature Walk
DESCRIPTION:Join us for a Befriend Nature Walk with Sloan Hiscock and Meg Zehmer at Deep Run Park\, Sunday May 5  2-3pm   \n9900 Ridgefield Parkway\, Henrico\, VA  23233.  Exact meeting location TBD. \nEmail mollie@befriendmovement.org to RSVP
URL:https://befriendmovement.org/event/befriend-nature-walk-4/
END:VEVENT
END:VCALENDAR