BEGIN:VCALENDAR
VERSION:2.0
PRODID:-//Befriend - ECPv5.16.2//NONSGML v1.0//EN
CALSCALE:GREGORIAN
METHOD:PUBLISH
X-ORIGINAL-URL:https://befriendmovement.org
X-WR-CALDESC:Events for Befriend
REFRESH-INTERVAL;VALUE=DURATION:PT1H
X-Robots-Tag:noindex
X-PUBLISHED-TTL:PT1H
BEGIN:VTIMEZONE
TZID:UTC
BEGIN:STANDARD
TZOFFSETFROM:+0000
TZOFFSETTO:+0000
TZNAME:UTC
DTSTART:20240101T000000
END:STANDARD
END:VTIMEZONE
BEGIN:VEVENT
DTSTART;VALUE=DATE:20240406
DTEND;VALUE=DATE:20240407
DTSTAMP:20260425T191722
CREATED:20240308T191913Z
LAST-MODIFIED:20240416T154637Z
UID:989-1712361600-1712447999@befriendmovement.org
SUMMARY:Befriend Act of Kindness Walk
DESCRIPTION:Saturday\, April 6 at 2pm – Befriend Act of Kindness Walk at Monroe Park\nWe will once again partner with Wildly Kind from Portland\, Oregon and VCU. We will be passing out flowers with inspirational messages in honor of Golden Rule Week! \nMeet under the gazebo near the Altria Theater\, 6 N. Laurel Street\, Richmond\, VA \nEmail mollie@befriendmovement.org to RSVP
URL:https://befriendmovement.org/event/befriend-act-of-kindness-walk/
ATTACH;FMTTYPE=image/jpeg:https://befriendmovement.org/wp-content/uploads/2024/03/IMG_5075-rotated.jpeg
END:VEVENT
END:VCALENDAR