BEGIN:VCALENDAR
VERSION:2.0
PRODID:-//Befriend - ECPv5.16.2//NONSGML v1.0//EN
CALSCALE:GREGORIAN
METHOD:PUBLISH
X-WR-CALNAME:Befriend
X-ORIGINAL-URL:https://befriendmovement.org
X-WR-CALDESC:Events for Befriend
REFRESH-INTERVAL;VALUE=DURATION:PT1H
X-Robots-Tag:noindex
X-PUBLISHED-TTL:PT1H
BEGIN:VTIMEZONE
TZID:UTC
BEGIN:STANDARD
TZOFFSETFROM:+0000
TZOFFSETTO:+0000
TZNAME:UTC
DTSTART:20240101T000000
END:STANDARD
END:VTIMEZONE
BEGIN:VEVENT
DTSTART;VALUE=DATE:20240323
DTEND;VALUE=DATE:20240324
DTSTAMP:20260425T220526
CREATED:20240214T010803Z
LAST-MODIFIED:20240308T191319Z
UID:968-1711152000-1711238399@befriendmovement.org
SUMMARY:Befriend Nature Walk
DESCRIPTION:Saturday\, March 23  –  Befriend Nature Walk with Tee Hollowell at Bryan Park\, 11AM  \nBryan Park\, 4308 Hermitage Rd\, Richmond\, VA 23227 \nMeet in the large parking lot across from the soccer fields. \nEmail mollie@befriendmovement.org to RSVP
URL:https://befriendmovement.org/event/befriend-nature-walk/
END:VEVENT
END:VCALENDAR