BEGIN:VCALENDAR
VERSION:2.0
PRODID:-//Befriend - ECPv5.16.2//NONSGML v1.0//EN
CALSCALE:GREGORIAN
METHOD:PUBLISH
X-ORIGINAL-URL:https://befriendmovement.org
X-WR-CALDESC:Events for Befriend
REFRESH-INTERVAL;VALUE=DURATION:PT1H
X-Robots-Tag:noindex
X-PUBLISHED-TTL:PT1H
BEGIN:VTIMEZONE
TZID:UTC
BEGIN:STANDARD
TZOFFSETFROM:+0000
TZOFFSETTO:+0000
TZNAME:UTC
DTSTART:20240101T000000
END:STANDARD
END:VTIMEZONE
BEGIN:VEVENT
DTSTART;VALUE=DATE:20240322
DTEND;VALUE=DATE:20240323
DTSTAMP:20260425T231742
CREATED:20240315T171653Z
LAST-MODIFIED:20240322T183941Z
UID:995-1711065600-1711151999@befriendmovement.org
SUMMARY:Befriend Walk with Office of Immigration and Refugee Engagement
DESCRIPTION:Friday\, March 22  –  Befriend Walk  with our partner\, the city of Richmond’s Office of Immigration and Refugee Engagement \n11:30-12:30pm at Forest Hill Park\, 4021 Forest Hill Ave.\,  Richmond\, VA. \nThis walk will be bilingual as some friends attending are learning English or Spanish.  After our walk we will have a short gather at the picnic area.  Bring your own bag lunch if you’d like. Drinks provided. \nRSVP to mollie@befriendmovement.org
URL:https://befriendmovement.org/event/__trashed/
ATTACH;FMTTYPE=image/jpeg:https://befriendmovement.org/wp-content/uploads/2024/03/IMG_5075-rotated.jpeg
END:VEVENT
END:VCALENDAR