BEGIN:VCALENDAR
VERSION:2.0
PRODID:-//Befriend - ECPv5.16.2//NONSGML v1.0//EN
CALSCALE:GREGORIAN
METHOD:PUBLISH
X-WR-CALNAME:Befriend
X-ORIGINAL-URL:https://befriendmovement.org
X-WR-CALDESC:Events for Befriend
REFRESH-INTERVAL;VALUE=DURATION:PT1H
X-Robots-Tag:noindex
X-PUBLISHED-TTL:PT1H
BEGIN:VTIMEZONE
TZID:UTC
BEGIN:STANDARD
TZOFFSETFROM:+0000
TZOFFSETTO:+0000
TZNAME:UTC
DTSTART:20240101T000000
END:STANDARD
END:VTIMEZONE
BEGIN:VEVENT
DTSTART;VALUE=DATE:20240218
DTEND;VALUE=DATE:20240219
DTSTAMP:20260424T200737
CREATED:20240214T024655Z
LAST-MODIFIED:20240214T024655Z
UID:974-1708214400-1708300799@befriendmovement.org
SUMMARY:Befriend Walk
DESCRIPTION:Sunday\, Feb 18  –  Befriend Walk at University of Richmond Eco-Corridor and Lake\, 4-5 pm \n\nMeet behind new Starbucks at River Road Shopping Center\, 6201 River Road\, Richmond\, VA  23220
URL:https://befriendmovement.org/event/befriend-walk-5/
END:VEVENT
END:VCALENDAR