BEGIN:VCALENDAR
VERSION:2.0
PRODID:-//Befriend - ECPv5.16.2//NONSGML v1.0//EN
CALSCALE:GREGORIAN
METHOD:PUBLISH
X-ORIGINAL-URL:https://befriendmovement.org
X-WR-CALDESC:Events for Befriend
REFRESH-INTERVAL;VALUE=DURATION:PT1H
X-Robots-Tag:noindex
X-PUBLISHED-TTL:PT1H
BEGIN:VTIMEZONE
TZID:UTC
BEGIN:STANDARD
TZOFFSETFROM:+0000
TZOFFSETTO:+0000
TZNAME:UTC
DTSTART:20240101T000000
END:STANDARD
END:VTIMEZONE
BEGIN:VEVENT
DTSTART;VALUE=DATE:20240115
DTEND;VALUE=DATE:20240116
DTSTAMP:20260426T020707
CREATED:20231130T184338Z
LAST-MODIFIED:20240112T040705Z
UID:934-1705276800-1705363199@befriendmovement.org
SUMMARY:Martin Luther King\, Jr. Day Zoom
DESCRIPTION:Monday\, Jan. 15  – MLK Day Town Hall Zoom\, 10 am \nJoin 804 Coaches for Change and Befriend to celebrate\, honor\, and continue to learn more about the legacy of Dr. Martin Luther King\, Jr. \nVisit www.804coach4change.org or email mollie@befriendmovement.org for the Zoom link.
URL:https://befriendmovement.org/event/befriend-new-years-day-zoom/
END:VEVENT
END:VCALENDAR